BEGIN:VCALENDAR
VERSION:2.0
PRODID:-//Cactus Pointe - ECPv6.13.2.1//NONSGML v1.0//EN
CALSCALE:GREGORIAN
METHOD:PUBLISH
X-WR-CALNAME:Cactus Pointe
X-ORIGINAL-URL:https://cactuspointe.org
X-WR-CALDESC:Events for Cactus Pointe
REFRESH-INTERVAL;VALUE=DURATION:PT1H
X-Robots-Tag:noindex
X-PUBLISHED-TTL:PT1H
BEGIN:VTIMEZONE
TZID:America/Phoenix
BEGIN:STANDARD
TZOFFSETFROM:-0700
TZOFFSETTO:-0700
TZNAME:MST
DTSTART:20190101T000000
END:STANDARD
END:VTIMEZONE
BEGIN:VEVENT
DTSTART;TZID=America/Phoenix:20191126T043000
DTEND;TZID=America/Phoenix:20191126T063000
DTSTAMP:20260423T091955
CREATED:20190516T081816Z
LAST-MODIFIED:20191119T184924Z
UID:236-1574742600-1574749800@cactuspointe.org
SUMMARY:Non-Traditional Thanksgiving Feast
DESCRIPTION:Join us on November 26th for a Non traditional thanksgiving feast. Bring your favorite dish and enjoy a potluck style dinner along with fellowship and board games.
URL:https://cactuspointe.org/event/non-traditional-thanksgiving-feast/
LOCATION:Cactus Pointe Baptist Church\, 6730 W Baseline Road\, Laveen\, AZ\, 85339\, United States
ATTACH;FMTTYPE=image/png:https://cactuspointe.org/wp-content/uploads/2019/05/non-tradish-thanksgiving-image-for-calendar.png
END:VEVENT
BEGIN:VEVENT
DTSTART;TZID=America/Phoenix:20191109T190000
DTEND;TZID=America/Phoenix:20191109T211500
DTSTAMP:20260423T091955
CREATED:20190515T210121Z
LAST-MODIFIED:20190515T210121Z
UID:233-1573326000-1573334100@cactuspointe.org
SUMMARY:Veteran's Sunday
DESCRIPTION:
URL:https://cactuspointe.org/event/veterans-sunday/
LOCATION:Cactus Pointe Baptist Church\, 6730 W Baseline Road\, Laveen\, AZ\, 85339\, United States
ATTACH;FMTTYPE=image/png:https://cactuspointe.org/wp-content/uploads/2019/05/veterans-sunday-image-for-calendar.png
END:VEVENT
BEGIN:VEVENT
DTSTART;TZID=America/Phoenix:20191019T190000
DTEND;TZID=America/Phoenix:20191020T003000
DTSTAMP:20260423T091955
CREATED:20190515T205325Z
LAST-MODIFIED:20190911T171010Z
UID:228-1571511600-1571531400@cactuspointe.org
SUMMARY:Children's Sunday
DESCRIPTION:Children’s Sunday is a very special day at our church just for kids. This year following the special services we plan to have carnival games\, including horse shoes\, cornhole and jumbo connect four. We’ll also have face painting\, bounce houses\, a photo booth and a potluck style lunch with a popcorn and cotton candy cart as well. Sunday school starts at 9am followed by our worship service at 10am. Lunch and games will start after the service ends
URL:https://cactuspointe.org/event/childrens-sunday/
LOCATION:AZ
ATTACH;FMTTYPE=image/png:https://cactuspointe.org/wp-content/uploads/2019/05/CHILDRENS-DAY-instagram-post1.png
END:VEVENT
BEGIN:VEVENT
DTSTART;TZID=America/Phoenix:20190727T000000
DTEND;TZID=America/Phoenix:20190727T020000
DTSTAMP:20260423T091955
CREATED:20190515T202846Z
LAST-MODIFIED:20190515T202846Z
UID:225-1564185600-1564192800@cactuspointe.org
SUMMARY:Ladies Chat & Chew
DESCRIPTION:Our quarterly Ladies Chat & Chew is a wonderful time of fellowship. This will be held on Saturday July 27th from 2:00pm – 4:00pm
URL:https://cactuspointe.org/event/ladies-chat-chew/
LOCATION:Cactus Pointe Baptist Church\, 6730 W Baseline Road\, Laveen\, AZ\, 85339\, United States
ATTACH;FMTTYPE=image/png:https://cactuspointe.org/wp-content/uploads/2019/05/ladiescc-image-for-calendar.png
END:VEVENT
BEGIN:VEVENT
DTSTART;TZID=America/Phoenix:20190630T030000
DTEND;TZID=America/Phoenix:20190630T053000
DTSTAMP:20260423T091955
CREATED:20190515T195258Z
LAST-MODIFIED:20190515T195258Z
UID:213-1561863600-1561872600@cactuspointe.org
SUMMARY:Fellowship & Fireworks
DESCRIPTION:Bring your fireworks and we’ll light them off together while enjoying fellowship and a potluck style dinner. Starts at 5:00pm
URL:https://cactuspointe.org/event/fellowship-fireworks/
LOCATION:AZ
ATTACH;FMTTYPE=image/png:https://cactuspointe.org/wp-content/uploads/2019/05/fireworks.thumbnail-for-calendar.png
END:VEVENT
BEGIN:VEVENT
DTSTART;TZID=America/Phoenix:20190616T030000
DTEND;TZID=America/Phoenix:20190619T043000
DTSTAMP:20260423T091955
CREATED:20190515T193719Z
LAST-MODIFIED:20190516T092602Z
UID:208-1560654000-1560918600@cactuspointe.org
SUMMARY:Summer Revival - Evangelist Paul Schwanke
DESCRIPTION:June 16-19 we will be having Evangelist Paul Schwanke preaching for us during our summer revival. Our Services will be normal for Sunday at 9am\, 10am and 5:00pm. Monday\, Tuesday and Wednesday our summer revival services will start at 6:30pm each night.
URL:https://cactuspointe.org/event/evangelist-paul-schwanke/
LOCATION:Cactus Pointe Baptist Church\, 6730 W Baseline Road\, Laveen\, AZ\, 85339\, United States
ATTACH;FMTTYPE=image/png:https://cactuspointe.org/wp-content/uploads/2019/05/Bible.png
END:VEVENT
END:VCALENDAR