BEGIN:VCALENDAR
VERSION:2.0
PRODID:-//Cactus Pointe - ECPv6.13.2.1//NONSGML v1.0//EN
CALSCALE:GREGORIAN
METHOD:PUBLISH
X-ORIGINAL-URL:https://cactuspointe.org
X-WR-CALDESC:Events for Cactus Pointe
REFRESH-INTERVAL;VALUE=DURATION:PT1H
X-Robots-Tag:noindex
X-PUBLISHED-TTL:PT1H
BEGIN:VTIMEZONE
TZID:America/Phoenix
BEGIN:STANDARD
TZOFFSETFROM:-0700
TZOFFSETTO:-0700
TZNAME:MST
DTSTART:20190101T000000
END:STANDARD
END:VTIMEZONE
BEGIN:VEVENT
DTSTART;TZID=America/Phoenix:20221224T150000
DTEND;TZID=America/Phoenix:20221224T163000
DTSTAMP:20260423T075325
CREATED:20221216T082906Z
LAST-MODIFIED:20221216T082907Z
UID:652-1671894000-1671899400@cactuspointe.org
SUMMARY:Christmas Eve In The Park!
DESCRIPTION:👋 Come join us as we celebrate CHRISTMAS EVE IN THE PARK! 🌲We will be lighting candles and singing timeless Christmas Carols as we sip on delicious hot cocoa. There will be a special Christmas message and afterward\, there will be christmas cookies\, crafts\, and gift bags for all children in attendance. \nThis will be a memorable candlelit service your family will never forget. Did we mention this is a FREE family event? Yes\, you heard us right! The cocoa\, cookies\, crafts\, and kids bags are provided free of charge from Cactus Pointe Baptist Church and will be available until supplies run out. \n🗓 PLAN ON COMING? Make sure to dress warm and BRING YOUR OWN CHAIR or blanket and join us as we celebrate the real meaning of Christmas! 🎄 \n📍 HOW TO FIND US: Once you park there will be greeters in orange vests that will help direct you to the event\, you can also find signs with blinking christmas lights to show you the way! \nHave any other questions? Call or text us at 623-277-6298
URL:https://cactuspointe.org/event/christmas-eve-in-the-park/
LOCATION:Cesar Chavez Park\, 8440 South 35th Avenue\, Phoenix\, 85339\, United States
ATTACH;FMTTYPE=image/png:https://cactuspointe.org/wp-content/uploads/2022/12/WEB-HEADER-EVENT.png
END:VEVENT
BEGIN:VEVENT
DTSTART;TZID=America/Phoenix:20211224T150000
DTEND;TZID=America/Phoenix:20211224T163000
DTSTAMP:20260423T075325
CREATED:20211203T053205Z
LAST-MODIFIED:20211203T053205Z
UID:606-1640358000-1640363400@cactuspointe.org
SUMMARY:Christmas Eve Candlelight Service 2021
DESCRIPTION:Come and discover the real meaning of Christmas at Cactus Pointe. We invite you and your family to come and celebrate the birth of Jesus Christ with us.\n\nAt 3:00 pm on December 24th 2021 we will have a traditional candlelight worship service with Christmas carols\, and a very special message. It will be a memorable experience for the whole family.\n\nEvery child ( age 12 an under) present during the service will receive a Christmas gift bag. We appreciate it if you would please let us know in advance how many children will be coming so we can plan ahead. Thank you\n\nQuestions? Please text or call us at (623) 227-6298 or reach us by email at cactuspointebaptistchurch@gmail.com
URL:https://cactuspointe.org/event/christmas-eve-candlelight-service-2021/
LOCATION:Cactus Pointe Baptist Church\, 6730 W Baseline Road\, Laveen\, AZ\, 85339\, United States
ATTACH;FMTTYPE=image/png:https://cactuspointe.org/wp-content/uploads/2021/12/Christmas-Begins-Eventbrite-2021-1920-x-1005-px-THUMB300-x-300-px.png
END:VEVENT
BEGIN:VEVENT
DTSTART;TZID=America/Phoenix:20210701T183000
DTEND;TZID=America/Phoenix:20210704T193000
DTSTAMP:20260423T075325
CREATED:20210701T190954Z
LAST-MODIFIED:20210701T204124Z
UID:594-1625164200-1625427000@cactuspointe.org
SUMMARY:Summer Revival With Evangelist Paul Schwanke
DESCRIPTION:  \nSUMMER REVIVAL:  Join Us for 4 days of powerful preaching and stirring revival music. Starting on July 1st at 6:30pm we will be meeting for our summer revival. Our guest preacher each night will be Evangelist Paul Schwanke.  Our summer revival services will start at 6:30pm each night on Thursday\, Friday and Saturday. Our services will be at the normal times for Sunday the 4th. Sunday school classes for Adults and children start at 9:00am\, Morning Worship is at 10:00am and our evening service is at 5:00pm.Please note that we will have our nursery open during every service for children ages 0-3 years old if you would like to use it. \nJULY 4TH – FOOD\, FELLOWSHIP & FIREWORKS: Following the evening service on July 4th we will have a potluck and the church will be grilling burgers and franks. There will be plenty of food so plan to stay after and eat dinner with us and enjoy our annual firework display celebrating the birth of America! All are welcome to attend this event and there is no cost associated with the potluck or firework display events. Feel free to bring a side or your own fireworks if you like. Hope to see you there! \nHere is an Overview of the schedule: \nThursday Night @ 6:30pm \nFriday Night @ 6:30pm \nSaturday Night @ 6:30pm \nSunday School @ 9am \nSunday Worship @ 10am \nSunday Evening @ 5pm \nIf you have any questions please don’t hesitate to call 623.277.6298 \nOur facilities are wheelchair accessible.
URL:https://cactuspointe.org/event/summer-revival-with-evangelist-paul-schwanke/
LOCATION:Cactus Pointe Baptist Church\, 6730 W Baseline Road\, Laveen\, AZ\, 85339\, United States
ATTACH;FMTTYPE=image/png:https://cactuspointe.org/wp-content/uploads/2021/07/Copy-of-of-july.png
END:VEVENT
BEGIN:VEVENT
DTSTART;TZID=America/Phoenix:20201224T163000
DTEND;TZID=America/Phoenix:20201224T171500
DTSTAMP:20260423T075325
CREATED:20201215T195745Z
LAST-MODIFIED:20201215T195746Z
UID:587-1608827400-1608830100@cactuspointe.org
SUMMARY:Christmas Eve Candelight Service
DESCRIPTION:We invite you and your family to come and celebrate the birth of Jesus Christ with us. \nAt 4:30 pm on December 24th 2020 we will have a traditional candlelight worship service with Christmas songs\, prayer\, scripture\, and a very special sermon.
URL:https://cactuspointe.org/event/christmas-eve-candelight-service/
LOCATION:Cactus Pointe Baptist Church\, 6730 W Baseline Road\, Laveen\, AZ\, 85339\, United States
ATTACH;FMTTYPE=image/png:https://cactuspointe.org/wp-content/uploads/2020/12/Copy-of-christmas-eve-2020.png
END:VEVENT
BEGIN:VEVENT
DTSTART;TZID=America/Phoenix:20201128T150000
DTEND;TZID=America/Phoenix:20201128T163000
DTSTAMP:20260423T075325
CREATED:20200901T050027Z
LAST-MODIFIED:20200901T050253Z
UID:522-1606575600-1606581000@cactuspointe.org
SUMMARY:November Ladies Bible Study
DESCRIPTION:Join Us for Our Next Ladies Bible Study! Our November meeting will be Saturday the 28th at 3:00 pm. \nCome and enjoy Food\, Fellowship and a Refreshing Bible lesson! We are currently studying how we can live Godly in a Godless World. \nWe will be meeting at a member’s home so if you would like to attend just talk to Ms. Katherine or Pastor Wandell for more information. Look forward to seeing you!
URL:https://cactuspointe.org/event/november-ladies-bible-study/
LOCATION:Cactus Pointe Baptist Church\, 6730 W Baseline Road\, Laveen\, AZ\, 85339\, United States
CATEGORIES:Ladies Events
ATTACH;FMTTYPE=image/png:https://cactuspointe.org/wp-content/uploads/2020/08/Copy-of-Copy-of-BIBLE-STUDY-e1598936552156.png
END:VEVENT
BEGIN:VEVENT
DTSTART;TZID=America/Phoenix:20201031T150000
DTEND;TZID=America/Phoenix:20201031T163000
DTSTAMP:20260423T075325
CREATED:20200901T045849Z
LAST-MODIFIED:20200901T050554Z
UID:519-1604156400-1604161800@cactuspointe.org
SUMMARY:October Ladies Bible Study
DESCRIPTION:Join Us for Our Next Ladies Bible Study! Our next meeting will be October the 31st at 3:00 pm. \nCome and enjoy Food\, Fellowship and a Refreshing Bible lesson! We are currently studying how we can live Godly in a Godless World. \nWe will be meeting at a member’s home so if you would like to attend just talk to Ms. Katherine or Pastor Wandell for more information. Look forward to seeing you!
URL:https://cactuspointe.org/event/october-ladies-bible-study/
LOCATION:Cactus Pointe Baptist Church\, 6730 W Baseline Road\, Laveen\, AZ\, 85339\, United States
CATEGORIES:Ladies Events
ATTACH;FMTTYPE=image/png:https://cactuspointe.org/wp-content/uploads/2020/08/Copy-of-Copy-of-BIBLE-STUDY-e1598936552156.png
END:VEVENT
BEGIN:VEVENT
DTSTART;TZID=America/Phoenix:20200919T150000
DTEND;TZID=America/Phoenix:20200919T163000
DTSTAMP:20260423T075325
CREATED:20200901T045709Z
LAST-MODIFIED:20200901T050647Z
UID:514-1600527600-1600533000@cactuspointe.org
SUMMARY:September Ladies Bible Study
DESCRIPTION:Join Us for Our Next Ladies Bible Study! Our next meeting will be September Saturday the 19th at 3:00 pm. \nCome and enjoy Food\, Fellowship and a Refreshing Bible lesson! We are currently studying how we can live Godly in a Godless World. \nWe will be meeting at a member’s home so if you would like to attend just talk to Ms. Katherine or Pastor Wandell for more information. Look forward to seeing you!
URL:https://cactuspointe.org/event/september-ladies-bible-study/
LOCATION:Cactus Pointe Baptist Church\, 6730 W Baseline Road\, Laveen\, AZ\, 85339\, United States
CATEGORIES:Ladies Events
ATTACH;FMTTYPE=image/png:https://cactuspointe.org/wp-content/uploads/2020/08/Copy-of-Copy-of-BIBLE-STUDY-e1598936552156.png
END:VEVENT
BEGIN:VEVENT
DTSTART;TZID=America/Phoenix:20191224T030000
DTEND;TZID=America/Phoenix:20191225T043000
DTSTAMP:20260423T075325
CREATED:20190516T091956Z
LAST-MODIFIED:20191215T005537Z
UID:247-1577156400-1577248200@cactuspointe.org
SUMMARY:Christmas Eve Service
DESCRIPTION:Join us for our Christmas Eve Service at 5:00pm for worship and a Gospel message from Pastor Wandell
URL:https://cactuspointe.org/event/christmas-service/
LOCATION:Cactus Pointe Baptist Church\, 6730 W Baseline Road\, Laveen\, AZ\, 85339\, United States
ATTACH;FMTTYPE=image/png:https://cactuspointe.org/wp-content/uploads/2019/05/Christmas-Service-image-for-calendar.png
END:VEVENT
BEGIN:VEVENT
DTSTART;TZID=America/Phoenix:20191220T040000
DTEND;TZID=America/Phoenix:20191220T060000
DTSTAMP:20260423T075325
CREATED:20190516T090954Z
LAST-MODIFIED:20191119T052213Z
UID:240-1576814400-1576821600@cactuspointe.org
SUMMARY:White Elephant Christmas Party
DESCRIPTION:Held at the Pastor’s house\, the Cactus Pointe Christmas party\, will be a fun and enjoyable event! We ask you to bring one gift to exchange. It can be something new or something old (Just don’t bring your garbage please). It can even be something you received last year that you would like to re-gift. We’ve made many memories in the past by opening the hilarious gifts people have brought. If you decide to buy something new please keep the price point under $10. There will also be food and snacks provided. If attending please be sure to meet with Pastor Wandell in person to get more details.
URL:https://cactuspointe.org/event/white-elephant-christmas-party/
LOCATION:AZ\, United States
ATTACH;FMTTYPE=image/png:https://cactuspointe.org/wp-content/uploads/2019/05/white-elephant-image-for-calendar.png
END:VEVENT
BEGIN:VEVENT
DTSTART;TZID=America/Phoenix:20191215T170000
DTEND;TZID=America/Phoenix:20191215T180000
DTSTAMP:20260423T075325
CREATED:20190516T091732Z
LAST-MODIFIED:20191119T052812Z
UID:245-1576429200-1576432800@cactuspointe.org
SUMMARY:Carols & Cocoa
DESCRIPTION:Come join us for a night of singing your favorite Christmas carols while sipping on some delicious hot cocoa!
URL:https://cactuspointe.org/event/carols-cocoa/
LOCATION:Cactus Pointe Baptist Church\, 6730 W Baseline Road\, Laveen\, AZ\, 85339\, United States
ATTACH;FMTTYPE=image/png:https://cactuspointe.org/wp-content/uploads/2019/05/carols-cocoa-image-for-calendar.png
END:VEVENT
BEGIN:VEVENT
DTSTART;TZID=America/Phoenix:20191126T043000
DTEND;TZID=America/Phoenix:20191126T063000
DTSTAMP:20260423T075325
CREATED:20190516T081816Z
LAST-MODIFIED:20191119T184924Z
UID:236-1574742600-1574749800@cactuspointe.org
SUMMARY:Non-Traditional Thanksgiving Feast
DESCRIPTION:Join us on November 26th for a Non traditional thanksgiving feast. Bring your favorite dish and enjoy a potluck style dinner along with fellowship and board games.
URL:https://cactuspointe.org/event/non-traditional-thanksgiving-feast/
LOCATION:Cactus Pointe Baptist Church\, 6730 W Baseline Road\, Laveen\, AZ\, 85339\, United States
ATTACH;FMTTYPE=image/png:https://cactuspointe.org/wp-content/uploads/2019/05/non-tradish-thanksgiving-image-for-calendar.png
END:VEVENT
BEGIN:VEVENT
DTSTART;TZID=America/Phoenix:20191109T190000
DTEND;TZID=America/Phoenix:20191109T211500
DTSTAMP:20260423T075325
CREATED:20190515T210121Z
LAST-MODIFIED:20190515T210121Z
UID:233-1573326000-1573334100@cactuspointe.org
SUMMARY:Veteran's Sunday
DESCRIPTION:
URL:https://cactuspointe.org/event/veterans-sunday/
LOCATION:Cactus Pointe Baptist Church\, 6730 W Baseline Road\, Laveen\, AZ\, 85339\, United States
ATTACH;FMTTYPE=image/png:https://cactuspointe.org/wp-content/uploads/2019/05/veterans-sunday-image-for-calendar.png
END:VEVENT
BEGIN:VEVENT
DTSTART;TZID=America/Phoenix:20191019T190000
DTEND;TZID=America/Phoenix:20191020T003000
DTSTAMP:20260423T075325
CREATED:20190515T205325Z
LAST-MODIFIED:20190911T171010Z
UID:228-1571511600-1571531400@cactuspointe.org
SUMMARY:Children's Sunday
DESCRIPTION:Children’s Sunday is a very special day at our church just for kids. This year following the special services we plan to have carnival games\, including horse shoes\, cornhole and jumbo connect four. We’ll also have face painting\, bounce houses\, a photo booth and a potluck style lunch with a popcorn and cotton candy cart as well. Sunday school starts at 9am followed by our worship service at 10am. Lunch and games will start after the service ends
URL:https://cactuspointe.org/event/childrens-sunday/
ATTACH;FMTTYPE=image/png:https://cactuspointe.org/wp-content/uploads/2019/05/CHILDRENS-DAY-instagram-post1.png
END:VEVENT
BEGIN:VEVENT
DTSTART;TZID=America/Phoenix:20190727T000000
DTEND;TZID=America/Phoenix:20190727T020000
DTSTAMP:20260423T075325
CREATED:20190515T202846Z
LAST-MODIFIED:20190515T202846Z
UID:225-1564185600-1564192800@cactuspointe.org
SUMMARY:Ladies Chat & Chew
DESCRIPTION:Our quarterly Ladies Chat & Chew is a wonderful time of fellowship. This will be held on Saturday July 27th from 2:00pm – 4:00pm
URL:https://cactuspointe.org/event/ladies-chat-chew/
LOCATION:Cactus Pointe Baptist Church\, 6730 W Baseline Road\, Laveen\, AZ\, 85339\, United States
ATTACH;FMTTYPE=image/png:https://cactuspointe.org/wp-content/uploads/2019/05/ladiescc-image-for-calendar.png
END:VEVENT
BEGIN:VEVENT
DTSTART;TZID=America/Phoenix:20190630T030000
DTEND;TZID=America/Phoenix:20190630T053000
DTSTAMP:20260423T075325
CREATED:20190515T195258Z
LAST-MODIFIED:20190515T195258Z
UID:213-1561863600-1561872600@cactuspointe.org
SUMMARY:Fellowship & Fireworks
DESCRIPTION:Bring your fireworks and we’ll light them off together while enjoying fellowship and a potluck style dinner. Starts at 5:00pm
URL:https://cactuspointe.org/event/fellowship-fireworks/
ATTACH;FMTTYPE=image/png:https://cactuspointe.org/wp-content/uploads/2019/05/fireworks.thumbnail-for-calendar.png
END:VEVENT
BEGIN:VEVENT
DTSTART;TZID=America/Phoenix:20190616T030000
DTEND;TZID=America/Phoenix:20190619T043000
DTSTAMP:20260423T075325
CREATED:20190515T193719Z
LAST-MODIFIED:20190516T092602Z
UID:208-1560654000-1560918600@cactuspointe.org
SUMMARY:Summer Revival - Evangelist Paul Schwanke
DESCRIPTION:June 16-19 we will be having Evangelist Paul Schwanke preaching for us during our summer revival. Our Services will be normal for Sunday at 9am\, 10am and 5:00pm. Monday\, Tuesday and Wednesday our summer revival services will start at 6:30pm each night.
URL:https://cactuspointe.org/event/evangelist-paul-schwanke/
LOCATION:Cactus Pointe Baptist Church\, 6730 W Baseline Road\, Laveen\, AZ\, 85339\, United States
ATTACH;FMTTYPE=image/png:https://cactuspointe.org/wp-content/uploads/2019/05/Bible.png
END:VEVENT
END:VCALENDAR